BEGIN:VCALENDAR
VERSION:2.0
PRODID:-//eventon.com NONSGML v1.0//EN
CALSCALE:GREGORIAN
METHOD:PUBLISH
BEGIN:VEVENT
UID:69e8b67d60382
DTSTAMP:20260422T115229Z
DTSTART:20260424T010000Z
DTEND:20260424T040000Z
LOCATION:
SUMMARY:Lewi Longmire & the Left Coast Roasters- EXTENDED
DESCRIPTION:A special\,  3-set show this evening from the layabouts of Thur
 sday happy hours! LEWI LONGMIRE leads the Left Coast Roasters (Bill Rudolph
 \,  Ned Folkerth and either Dan Eccles or Sydney Nash) through a couple of 
 sets of rockandroll\,  songs both original and familiar. Thursday Therapy i
 s the name of the[..]\nhttps://laurelthirst.com/events/lewi-longmire-the-le
 ft-coast-roasters-extended-2/
URL:https://laurelthirst.com/events/lewi-longmire-the-left-coast-roasters-extended-2/
END:VEVENT
END:VCALENDAR