BEGIN:VCALENDAR
VERSION:2.0
PRODID:-//eventon.com NONSGML v1.0//EN
CALSCALE:GREGORIAN
METHOD:PUBLISH
BEGIN:VEVENT
UID:69e4d68642b04
DTSTAMP:20260419T132006Z
DTSTART:20220428T010000Z
DTEND:20220428T030000Z
LOCATION:
SUMMARY:Wilclone
DESCRIPTION:https://www.facebook.com/wilclonemusic/ Bringing the music of W
 ilco to the people of Portland and beyond\,  one joyous show at a time. Por
 tland\,  Oregon Wilco Tribute Band\nhttps://laurelthirst.com/events/wilclon
 e/
URL:https://laurelthirst.com/events/wilclone/
END:VEVENT
END:VCALENDAR