BEGIN:VCALENDAR
VERSION:2.0
PRODID:-//eventon.com NONSGML v1.0//EN
CALSCALE:GREGORIAN
METHOD:PUBLISH
BEGIN:VEVENT
UID:69e70c0ae2e78
DTSTAMP:20260421T053258Z
DTSTART:20220511T040000Z
DTEND:20220511T060000Z
LOCATION:
SUMMARY:WORTH (and guests!)
DESCRIPTION:https://www.weareworth.com Pacific NW troubadour debuts at the
  Laurelthirst with a weekly set of soulful folk and crooning ballads.  Spe
 cial guests each night!\nhttps://laurelthirst.com/events/worth-and-guests-6
 /
URL:https://laurelthirst.com/events/worth-and-guests-6/
END:VEVENT
END:VCALENDAR