BEGIN:VCALENDAR
VERSION:2.0
PRODID:-//eventon.com NONSGML v1.0//EN
CALSCALE:GREGORIAN
METHOD:PUBLISH
BEGIN:VEVENT
UID:69e6ae8631443
DTSTAMP:20260420T225358Z
DTSTART:20220513T040000Z
DTEND:20220513T063000Z
LOCATION:
SUMMARY:Stone & Sue // Dumpster Joe // Tevis Hodge\,  Jr.
DESCRIPTION:STONE &amp; SUE- no website An endearing duo\,  Consumed by mus
 ic of the 20s &amp; 30s\,  and other old things DUMPSTER JOE- https://www.f
 acebook.com/dumpsterjoe/ Dumpster joe plays ragtime\,  country blues \,  ja
 zz and old time music from the 1920s and 30s as well as original music. Res
 ophonic guitar and everything from[..]\nhttps://laurelthirst.com/events/sto
 ne-sue-dumpster-joe-tevis-hodge-jr/
URL:https://laurelthirst.com/events/stone-sue-dumpster-joe-tevis-hodge-jr/
END:VEVENT
END:VCALENDAR