BEGIN:VCALENDAR
VERSION:2.0
PRODID:-//eventon.com NONSGML v1.0//EN
CALSCALE:GREGORIAN
METHOD:PUBLISH
BEGIN:VEVENT
UID:69e64e54b4338
DTSTAMP:20260420T160332Z
DTSTART:20230106T050000Z
DTEND:20230106T073000Z
LOCATION:
SUMMARY:Thunder Ridge // Reckless Rooster and David Henry
DESCRIPTION:THUNDER RIDGE is a newer Portland-based bluegrass band fronted
  by Drew Tucker from LEFT COAST COUNTRY featuring hard driving bluegrass m
 usic performed in the traditional manner. Tight two-part and three-part har
 monies featuring John Montgomery on guitar &amp; vocals\,  Drew Tucker on m
 andolin &amp; vocals\,  Chuck Holloway on banjo &amp; vocals\,  and Casey[.
 .]\nhttps://laurelthirst.com/events/thunder-ridge-reckless-rooster-and-davi
 d-henry/
URL:https://laurelthirst.com/events/thunder-ridge-reckless-rooster-and-david-henry/
END:VEVENT
END:VCALENDAR