BEGIN:VCALENDAR
VERSION:2.0
PRODID:-//eventon.com NONSGML v1.0//EN
CALSCALE:GREGORIAN
METHOD:PUBLISH
BEGIN:VEVENT
UID:69e4d17d07860
DTSTAMP:20260419T125837Z
DTSTART:20230412T010000Z
DTEND:20230412T030000Z
LOCATION:
SUMMARY:Jackstraw
DESCRIPTION:The Jackstraw boys return for their &#8220;2nd and 4th Tuesdays
 &#8221; regular bluegrass happy hour!\nhttps://laurelthirst.com/events/jack
 straw/
URL:https://laurelthirst.com/events/jackstraw/
END:VEVENT
END:VCALENDAR