BEGIN:VCALENDAR
VERSION:2.0
PRODID:-//eventon.com NONSGML v1.0//EN
CALSCALE:GREGORIAN
METHOD:PUBLISH
BEGIN:VEVENT
UID:69e6aec4d4759
DTSTAMP:20260420T225500Z
DTSTART:20230420T040000Z
DTEND:20230419T180000Z
LOCATION:
SUMMARY:Pulp Western (solo) / Rose Gerber & Sweet Relief
DESCRIPTION:Ryan T Jacobs is the singer/songwriter behind Portland country 
 band Pulp Western and formerly\,  Portland indie rock mainstay Melville. Ha
 ving spent seven years living and touring all over Europe\,  Jacobs speaks 
 four languages\,  and channels his world travel experiences into his songwr
 iting. His lyrics and dynamic vocals are enhanced by[..]\nhttps://laurelthi
 rst.com/events/ryan-t-jacobs/
URL:https://laurelthirst.com/events/ryan-t-jacobs/
END:VEVENT
END:VCALENDAR