BEGIN:VCALENDAR
VERSION:2.0
PRODID:-//eventon.com NONSGML v1.0//EN
CALSCALE:GREGORIAN
METHOD:PUBLISH
BEGIN:VEVENT
UID:69e58330eabab
DTSTAMP:20260420T013648Z
DTSTART:20231225
DTEND:20231226
LOCATION:
SUMMARY:CLOSED FOR THE HOLIDAY
DESCRIPTION:Please enjoy the comfort of a day of rest and gratitude.\nhttps
 ://laurelthirst.com/events/closed-for-the-holiday-5/
URL:https://laurelthirst.com/events/closed-for-the-holiday-5/
END:VEVENT
END:VCALENDAR